BEGIN:VCALENDAR
VERSION:2.0
PRODID:-//Wittenförden.de - ECPv6.15.20//NONSGML v1.0//EN
CALSCALE:GREGORIAN
METHOD:PUBLISH
X-ORIGINAL-URL:https://www.wittenfoerden.de
X-WR-CALDESC:Veranstaltungen für Wittenförden.de
REFRESH-INTERVAL;VALUE=DURATION:PT1H
X-Robots-Tag:noindex
X-PUBLISHED-TTL:PT1H
BEGIN:VTIMEZONE
TZID:Europe/Berlin
BEGIN:DAYLIGHT
TZOFFSETFROM:+0100
TZOFFSETTO:+0200
TZNAME:CEST
DTSTART:20230326T010000
END:DAYLIGHT
BEGIN:STANDARD
TZOFFSETFROM:+0200
TZOFFSETTO:+0100
TZNAME:CET
DTSTART:20231029T010000
END:STANDARD
BEGIN:DAYLIGHT
TZOFFSETFROM:+0100
TZOFFSETTO:+0200
TZNAME:CEST
DTSTART:20240331T010000
END:DAYLIGHT
BEGIN:STANDARD
TZOFFSETFROM:+0200
TZOFFSETTO:+0100
TZNAME:CET
DTSTART:20241027T010000
END:STANDARD
BEGIN:DAYLIGHT
TZOFFSETFROM:+0100
TZOFFSETTO:+0200
TZNAME:CEST
DTSTART:20250330T010000
END:DAYLIGHT
BEGIN:STANDARD
TZOFFSETFROM:+0200
TZOFFSETTO:+0100
TZNAME:CET
DTSTART:20251026T010000
END:STANDARD
BEGIN:DAYLIGHT
TZOFFSETFROM:+0100
TZOFFSETTO:+0200
TZNAME:CEST
DTSTART:20260329T010000
END:DAYLIGHT
BEGIN:STANDARD
TZOFFSETFROM:+0200
TZOFFSETTO:+0100
TZNAME:CET
DTSTART:20261025T010000
END:STANDARD
BEGIN:DAYLIGHT
TZOFFSETFROM:+0100
TZOFFSETTO:+0200
TZNAME:CEST
DTSTART:20270328T010000
END:DAYLIGHT
BEGIN:STANDARD
TZOFFSETFROM:+0200
TZOFFSETTO:+0100
TZNAME:CET
DTSTART:20271031T010000
END:STANDARD
END:VTIMEZONE
BEGIN:VEVENT
DTSTART;TZID=Europe/Berlin:20260318T190000
DTEND;TZID=Europe/Berlin:20260318T203000
DTSTAMP:20260423T093325
CREATED:20260212T200758Z
LAST-MODIFIED:20260212T200758Z
UID:10004892-1773860400-1773865800@www.wittenfoerden.de
SUMMARY:Vortrag Naturfotografien
DESCRIPTION:Am 18. März 2026 findet in der Jagdschule in Grambow ein Vortrag durch Familie Flau statt. Das Thema ist „Sommer in Skandinavien“. Es werden wunderschöne Naturfotografien aus Norwegen und Schweden präsentiert. Der Eintritt ist frei. Der Förderverein Grambow e.V. würde sich über eine Spende freuen.
URL:https://www.wittenfoerden.de/event/vortrag-naturfotografien/
LOCATION:Grambow
CATEGORIES:Allgemein
ATTACH;FMTTYPE=image/jpeg:https://www.wittenfoerden.de/wp-content/uploads/2019/10/2019-10-25-Veranstaltung-Naturbeobachtungen.jpg
END:VEVENT
BEGIN:VEVENT
DTSTART;TZID=Europe/Berlin:20250915T100000
DTEND;TZID=Europe/Berlin:20250915T120000
DTSTAMP:20260423T093325
CREATED:20250903T121632Z
LAST-MODIFIED:20250904T123829Z
UID:10004846-1757930400-1757937600@www.wittenfoerden.de
SUMMARY:Arbeitseinsatz
DESCRIPTION:Wir brauchen eure Unterstützung!\nam Sportplatz Wittenförden. \nMontag\, den 15. September um 10 Uhr \nGeplante Arbeiten: Schneiden der wilden Triebe um die Bäume am Hansberg. \nBitte bringt eigene Gartengeräte mit. (z.B. Harke\, Besen\, Schneidwerkzeuge\, Arbeitshandschuhe\, Schubkarre) \nAnschließend gibt es für die Helfer einen kleinen Imbiss.
URL:https://www.wittenfoerden.de/event/arbeitseinsatz/
LOCATION:Sportplatz
CATEGORIES:Allgemein
ATTACH;FMTTYPE=image/png:https://www.wittenfoerden.de/wp-content/uploads/2015/02/Wappen-Wittenfoerden.png
END:VEVENT
BEGIN:VEVENT
DTSTART;VALUE=DATE:20240628
DTEND;VALUE=DATE:20240701
DTSTAMP:20260423T093325
CREATED:20240503T050754Z
LAST-MODIFIED:20240626T051821Z
UID:10004402-1719532800-1719791999@www.wittenfoerden.de
SUMMARY:Dorffest
DESCRIPTION: 
URL:https://www.wittenfoerden.de/event/dorffest/
LOCATION:Festwiese
CATEGORIES:Allgemein
ATTACH;FMTTYPE=image/jpeg:https://www.wittenfoerden.de/wp-content/uploads/2024/05/Dorffest-2024-Termin.jpg
END:VEVENT
END:VCALENDAR