BEGIN:VCALENDAR
VERSION:2.0
PRODID:-//Wittenförden.de - ECPv6.15.20//NONSGML v1.0//EN
CALSCALE:GREGORIAN
METHOD:PUBLISH
X-WR-CALNAME:Wittenförden.de
X-ORIGINAL-URL:https://www.wittenfoerden.de
X-WR-CALDESC:Veranstaltungen für Wittenförden.de
REFRESH-INTERVAL;VALUE=DURATION:PT1H
X-Robots-Tag:noindex
X-PUBLISHED-TTL:PT1H
BEGIN:VTIMEZONE
TZID:Europe/Berlin
BEGIN:DAYLIGHT
TZOFFSETFROM:+0100
TZOFFSETTO:+0200
TZNAME:CEST
DTSTART:20250330T010000
END:DAYLIGHT
BEGIN:STANDARD
TZOFFSETFROM:+0200
TZOFFSETTO:+0100
TZNAME:CET
DTSTART:20251026T010000
END:STANDARD
BEGIN:DAYLIGHT
TZOFFSETFROM:+0100
TZOFFSETTO:+0200
TZNAME:CEST
DTSTART:20260329T010000
END:DAYLIGHT
BEGIN:STANDARD
TZOFFSETFROM:+0200
TZOFFSETTO:+0100
TZNAME:CET
DTSTART:20261025T010000
END:STANDARD
BEGIN:DAYLIGHT
TZOFFSETFROM:+0100
TZOFFSETTO:+0200
TZNAME:CEST
DTSTART:20270328T010000
END:DAYLIGHT
BEGIN:STANDARD
TZOFFSETFROM:+0200
TZOFFSETTO:+0100
TZNAME:CET
DTSTART:20271031T010000
END:STANDARD
END:VTIMEZONE
BEGIN:VEVENT
DTSTART;TZID=Europe/Berlin:20260308T100000
DTEND;TZID=Europe/Berlin:20260308T120000
DTSTAMP:20260422T020622
CREATED:20260201T121851Z
LAST-MODIFIED:20260216T234850Z
UID:10004889-1772964000-1772971200@www.wittenfoerden.de
SUMMARY:Krimilesung
DESCRIPTION:Am 8. März 2026 findet anlässlich des Frauentages für die Einwohnerinnen von Wittenförden eine musikalische Krimilesung mit der Autorin Diana Salow statt. Der Eintritt ist frei. \nDiana Salow liest aus all ihren veröffentlichten Büchern und gibt interessante Einblicke aus ihrem Leben preis. \nDas Motto lautet: „Warum hat Hauptkommissar Thomas Berger nicht nein gesagt!“ Es wird ein musikalischer Streifzug durch alle Kriminalfälle. Die Lesung beinhaltet ausschließlich Musiktitel von Roland Kaiser. \nFreuen Sie sich auf eine Mordsstimmung\, fesselnde Worte von Diana Salow\, packende Rhythmen und Livemusik von Steffen Salow (Gesang und Gitarre).
URL:https://www.wittenfoerden.de/event/krimilesung/
LOCATION:Gemeindehaus
CATEGORIES:Allgemein,Kultur
ATTACH;FMTTYPE=image/jpeg:https://www.wittenfoerden.de/wp-content/uploads/2026/02/Diana-Salow-und-Steffen-Salow.jpg
END:VEVENT
END:VCALENDAR