BEGIN:VCALENDAR
VERSION:2.0
PRODID:-//Wittenförden.de - ECPv6.15.20//NONSGML v1.0//EN
CALSCALE:GREGORIAN
METHOD:PUBLISH
X-ORIGINAL-URL:https://www.wittenfoerden.de
X-WR-CALDESC:Veranstaltungen für Wittenförden.de
REFRESH-INTERVAL;VALUE=DURATION:PT1H
X-Robots-Tag:noindex
X-PUBLISHED-TTL:PT1H
BEGIN:VTIMEZONE
TZID:Europe/Berlin
BEGIN:DAYLIGHT
TZOFFSETFROM:+0100
TZOFFSETTO:+0200
TZNAME:CEST
DTSTART:20250330T010000
END:DAYLIGHT
BEGIN:STANDARD
TZOFFSETFROM:+0200
TZOFFSETTO:+0100
TZNAME:CET
DTSTART:20251026T010000
END:STANDARD
BEGIN:DAYLIGHT
TZOFFSETFROM:+0100
TZOFFSETTO:+0200
TZNAME:CEST
DTSTART:20260329T010000
END:DAYLIGHT
BEGIN:STANDARD
TZOFFSETFROM:+0200
TZOFFSETTO:+0100
TZNAME:CET
DTSTART:20261025T010000
END:STANDARD
BEGIN:DAYLIGHT
TZOFFSETFROM:+0100
TZOFFSETTO:+0200
TZNAME:CEST
DTSTART:20270328T010000
END:DAYLIGHT
BEGIN:STANDARD
TZOFFSETFROM:+0200
TZOFFSETTO:+0100
TZNAME:CET
DTSTART:20271031T010000
END:STANDARD
END:VTIMEZONE
BEGIN:VEVENT
DTSTART;TZID=Europe/Berlin:20260701T143000
DTEND;TZID=Europe/Berlin:20260701T170000
DTSTAMP:20260421T145519
CREATED:20251004T140524Z
LAST-MODIFIED:20251110T112212Z
UID:10004765-1782916200-1782925200@www.wittenfoerden.de
SUMMARY:Senioren Café
DESCRIPTION:Jeden ersten Mittwoch im Monat findet das Senioren Café in den Räumlichkeiten der Freiwilligen Feuerwehr in Wittenförden statt. Jeder ist willkommen. Frau Zehetbauer und Frau Uibel sind für die Organisation verantwortlich und würden sich über neue Mitstreiter freuen. Gegen einen Kuchen und/oder ein Päckchen Kaffee als Mitbringsel ist nichts einzuwenden.
URL:https://www.wittenfoerden.de/event/rentnerkaffeeklatsch/2026-07-01/
LOCATION:Feuerwehr
CATEGORIES:Allgemein,Senioren
ATTACH;FMTTYPE=image/jpeg:https://www.wittenfoerden.de/wp-content/uploads/2024/09/Senioren-CAFE-rund.jpg
END:VEVENT
BEGIN:VEVENT
DTSTART;TZID=Europe/Berlin:20260703T170000
DTEND;TZID=Europe/Berlin:20260703T200000
DTSTAMP:20260421T145519
CREATED:20260323T173955Z
LAST-MODIFIED:20260330T142415Z
UID:10004417-1783098000-1783108800@www.wittenfoerden.de
SUMMARY:Picknick im Park
DESCRIPTION:Alle Bürger Wittenfördens sind am 3. Juli 2026 von 17 bis 20 Uhr zu einem offenen Picknick im Generationen Spielpark vor der Grundschule eingeladen. Jung und Alt\, mit Kind und Kegel. Jeder ist gern gesehen. Es soll ein gemütliches Beisammensein werden. Neu – es wird ein gemeinsames Buffet eingerichtet. Jeder sollte dafür mit einer Kleinigkeit beitragen. Zum ersten Mal wird es ein Lach-Yoga geben. Da es nur wenige Sitzgelegenheiten gibt\, bringen die meisten eigene Stühle oder eine Decke mit. \nDie Freunde der Kultur freuen sich auf Sie.
URL:https://www.wittenfoerden.de/event/picknick-im-park-3/
LOCATION:Generationenspielpark\, Wittenförden\, 19073\, Deutschland
CATEGORIES:Allgemein,Kultur
ATTACH;FMTTYPE=image/jpeg:https://www.wittenfoerden.de/wp-content/uploads/2024/08/pexels-ya-demenina-12737479-scaled-e1722530355927.jpg
END:VEVENT
END:VCALENDAR