BEGIN:VCALENDAR
VERSION:2.0
PRODID:-//Wittenförden.de - ECPv6.15.20//NONSGML v1.0//EN
CALSCALE:GREGORIAN
METHOD:PUBLISH
X-ORIGINAL-URL:https://www.wittenfoerden.de
X-WR-CALDESC:Veranstaltungen für Wittenförden.de
REFRESH-INTERVAL;VALUE=DURATION:PT1H
X-Robots-Tag:noindex
X-PUBLISHED-TTL:PT1H
BEGIN:VTIMEZONE
TZID:Europe/Berlin
BEGIN:DAYLIGHT
TZOFFSETFROM:+0100
TZOFFSETTO:+0200
TZNAME:CEST
DTSTART:20250330T010000
END:DAYLIGHT
BEGIN:STANDARD
TZOFFSETFROM:+0200
TZOFFSETTO:+0100
TZNAME:CET
DTSTART:20251026T010000
END:STANDARD
BEGIN:DAYLIGHT
TZOFFSETFROM:+0100
TZOFFSETTO:+0200
TZNAME:CEST
DTSTART:20260329T010000
END:DAYLIGHT
BEGIN:STANDARD
TZOFFSETFROM:+0200
TZOFFSETTO:+0100
TZNAME:CET
DTSTART:20261025T010000
END:STANDARD
BEGIN:DAYLIGHT
TZOFFSETFROM:+0100
TZOFFSETTO:+0200
TZNAME:CEST
DTSTART:20270328T010000
END:DAYLIGHT
BEGIN:STANDARD
TZOFFSETFROM:+0200
TZOFFSETTO:+0100
TZNAME:CET
DTSTART:20271031T010000
END:STANDARD
END:VTIMEZONE
BEGIN:VEVENT
DTSTART;TZID=Europe/Berlin:20260425T140000
DTEND;TZID=Europe/Berlin:20260425T163000
DTSTAMP:20260423T151723
CREATED:20260315T221251Z
LAST-MODIFIED:20260323T214514Z
UID:10004816-1777125600-1777134600@www.wittenfoerden.de
SUMMARY:Senioren-Frühlingsfest
DESCRIPTION:Es ist wieder Zeit für unser Frühlingsfest. Wir laden alle Senioren am 25. April 2026 um 14 Uhr in den Gemeindesaal ein. Für das leibliche Wohl sorgt der Sozialausschuss Dieses Mal darf wieder getanzt werden! DJ Lola aus Wittenförden wird die passende Musik spielen. \nWir bitten um Anmeldung. Diese sind bei Wittenförden reist am 1. und am 15. April in Ottis Eisdiele möglich. Oder alternativ bei Frau Eberhardt unter der Telefonnummer 0385 6470414. \n 
URL:https://www.wittenfoerden.de/event/senioren-fruehlingsfest/
LOCATION:Gemeindehaus
CATEGORIES:Allgemein,Senioren
ATTACH;FMTTYPE=image/jpeg:https://www.wittenfoerden.de/wp-content/uploads/2022/05/Fruehlingsfest2022_1.jpg
END:VEVENT
END:VCALENDAR