BEGIN:VCALENDAR
VERSION:2.0
PRODID:-//Wittenförden.de - ECPv6.15.20//NONSGML v1.0//EN
CALSCALE:GREGORIAN
METHOD:PUBLISH
X-WR-CALNAME:Wittenförden.de
X-ORIGINAL-URL:https://www.wittenfoerden.de
X-WR-CALDESC:Veranstaltungen für Wittenförden.de
REFRESH-INTERVAL;VALUE=DURATION:PT1H
X-Robots-Tag:noindex
X-PUBLISHED-TTL:PT1H
BEGIN:VTIMEZONE
TZID:Europe/Berlin
BEGIN:DAYLIGHT
TZOFFSETFROM:+0100
TZOFFSETTO:+0200
TZNAME:CEST
DTSTART:20240331T010000
END:DAYLIGHT
BEGIN:STANDARD
TZOFFSETFROM:+0200
TZOFFSETTO:+0100
TZNAME:CET
DTSTART:20241027T010000
END:STANDARD
BEGIN:DAYLIGHT
TZOFFSETFROM:+0100
TZOFFSETTO:+0200
TZNAME:CEST
DTSTART:20250330T010000
END:DAYLIGHT
BEGIN:STANDARD
TZOFFSETFROM:+0200
TZOFFSETTO:+0100
TZNAME:CET
DTSTART:20251026T010000
END:STANDARD
BEGIN:DAYLIGHT
TZOFFSETFROM:+0100
TZOFFSETTO:+0200
TZNAME:CEST
DTSTART:20260329T010000
END:DAYLIGHT
BEGIN:STANDARD
TZOFFSETFROM:+0200
TZOFFSETTO:+0100
TZNAME:CET
DTSTART:20261025T010000
END:STANDARD
BEGIN:DAYLIGHT
TZOFFSETFROM:+0100
TZOFFSETTO:+0200
TZNAME:CEST
DTSTART:20270328T010000
END:DAYLIGHT
BEGIN:STANDARD
TZOFFSETFROM:+0200
TZOFFSETTO:+0100
TZNAME:CET
DTSTART:20271031T010000
END:STANDARD
END:VTIMEZONE
BEGIN:VEVENT
DTSTART;TZID=Europe/Berlin:20260124T093000
DTEND;TZID=Europe/Berlin:20260124T130000
DTSTAMP:20260424T053519
CREATED:20251210T152039Z
LAST-MODIFIED:20251210T152039Z
UID:10004870-1769247000-1769259600@www.wittenfoerden.de
SUMMARY:5. Gesundheitstag
DESCRIPTION:Du stehst im Fokus – deine Atmung\, dein Körper und dein Gefühl! \n5. Gesundheits-Aktions-Tag \nWANN?\n24. Januar 2026\, 09:30 – 13:00 Uhr \nWO?\nSporthalle Grundschule Wittenförden \nWAS?\n09:30 Uhr\nBegrüßung und Erwärmung \n09:40 – 10:30 Uhr\nAROHA – zur speziell komponierten Musik wechseln sich spannungsvolle und entspannende Elemente ab\, die große Muskelgruppen bewegen und das Herz-Kreislauf-System aktivieren. \nTrainerin: Katrin Gleu \n10:30 – 10:40 Uhr\nPause \n10:40 – 11:30 Uhr\nKokoro Physical Training® – gesundheitsorientierte Bewegungsformen\, die uns helfen\, zu mehr mentaler Ausgeglichenheit im Alltag\, Beruf und Familie zu finden und täglich in Balance zu sein. \nTrainerin: Ulrike Hagemeinster \nAb 11:40 Uhr\nGeselliges Beisammensein mit Imbiss – alle Teilnehmenden bringen Leckereien mit \nIhr seid / Sie sind interessiert? Wir sehen uns! \nTeilnahmegebühr – am 24. Januar 2026 zu zahlen \nMitglieder des TuS: 5\,00 €\nNichtmitglieder: 8\,00 € \n  \nSportlicher Gruß \nDr. Margit Quilitz\nVorsitzende TuS Wittenförden e. V.
URL:https://www.wittenfoerden.de/event/5-gesundheitstag/
LOCATION:Grundschule
CATEGORIES:Allgemein,Sportverein
ATTACH;FMTTYPE=image/jpeg:https://www.wittenfoerden.de/wp-content/uploads/2020/02/Logo-TuS-neu.jpg
END:VEVENT
BEGIN:VEVENT
DTSTART;TZID=Europe/Berlin:20250906T093000
DTEND;TZID=Europe/Berlin:20250906T113000
DTSTAMP:20260424T053519
CREATED:20250125T153223Z
LAST-MODIFIED:20250130T191215Z
UID:10004317-1757151000-1757158200@www.wittenfoerden.de
SUMMARY:Einschulungsveranstaltung
DESCRIPTION:Die Einschulung der neuen 1. Klasse für das Schuljahr 2025/2026 findet an unserer Schule am Sonnabend den 06.09.2025 um 09:30 Uhr statt.
URL:https://www.wittenfoerden.de/event/einschulungsveranstaltung/
LOCATION:Grundschule
CATEGORIES:Allgemein,Schule
ATTACH;FMTTYPE=image/jpeg:https://www.wittenfoerden.de/wp-content/uploads/2019/08/Schule-2019-08-30-2.jpeg
END:VEVENT
END:VCALENDAR